Package: RankProd Version: 3.33.0 Command: E:\biocbuild\bbs-3.21-bioc\R\bin\R.exe CMD INSTALL RankProd StartedAt: 2025-02-09 15:20:08 -0500 (Sun, 09 Feb 2025) EndedAt: 2025-02-09 15:20:42 -0500 (Sun, 09 Feb 2025) EllapsedTime: 34.3 seconds RetCode: 0 Status: OK