Package: RareVariantVis Version: 2.35.0 Command: rm -rf RareVariantVis.buildbin-libdir && mkdir RareVariantVis.buildbin-libdir && E:\biocbuild\bbs-3.21-bioc\R\bin\R.exe CMD INSTALL --build --library=RareVariantVis.buildbin-libdir RareVariantVis_2.35.0.tar.gz StartedAt: 2025-02-10 08:28:52 -0500 (Mon, 10 Feb 2025) EndedAt: 2025-02-10 08:30:38 -0500 (Mon, 10 Feb 2025) EllapsedTime: 105.3 seconds RetCode: 0 Status: OK PackageFile: RareVariantVis_2.35.0.zip PackageFileSize: 2.725 MiB