Package: RareVariantVis Version: 2.35.0 Command: E:\biocbuild\bbs-3.21-bioc\R\bin\R.exe CMD INSTALL RareVariantVis StartedAt: 2025-02-09 16:46:45 -0500 (Sun, 09 Feb 2025) EndedAt: 2025-02-09 16:48:32 -0500 (Sun, 09 Feb 2025) EllapsedTime: 106.8 seconds RetCode: 0 Status: OK