Package: Rbowtie Version: 1.47.0 Command: /Library/Frameworks/R.framework/Resources/bin/R CMD build --keep-empty-dirs --no-resave-data Rbowtie StartedAt: 2025-02-04 17:21:03 -0500 (Tue, 04 Feb 2025) EndedAt: 2025-02-04 17:21:35 -0500 (Tue, 04 Feb 2025) EllapsedTime: 31.4 seconds RetCode: 0 Status: OK PackageFile: Rbowtie_1.47.0.tar.gz PackageFileSize: 4.917 MiB