Package: Rbowtie Version: 1.47.0 Command: /Library/Frameworks/R.framework/Resources/bin/R CMD check --install=check:Rbowtie.install-out.txt --library=/Library/Frameworks/R.framework/Resources/library --no-vignettes --timings Rbowtie_1.47.0.tar.gz StartedAt: 2025-02-04 20:54:05 -0500 (Tue, 04 Feb 2025) EndedAt: 2025-02-04 20:54:18 -0500 (Tue, 04 Feb 2025) EllapsedTime: 13.2 seconds RetCode: 0 Status: WARNINGS CheckDir: Rbowtie.Rcheck Warnings: 1