Package: Rbowtie Version: 1.47.0 Command: rm -rf Rbowtie.buildbin-libdir && mkdir Rbowtie.buildbin-libdir && /Users/biocbuild/BBS/utils/build-universal.sh Rbowtie_1.47.0.tar.gz /Library/Frameworks/R.framework/Resources/bin/R Rbowtie.buildbin-libdir StartedAt: 2025-02-10 01:10:38 -0500 (Mon, 10 Feb 2025) EndedAt: 2025-02-10 01:12:29 -0500 (Mon, 10 Feb 2025) EllapsedTime: 111.5 seconds RetCode: 0 Status: OK PackageFile: Rbowtie_1.47.0.tgz PackageFileSize: 1.279 MiB