Package: Rbowtie Version: 1.47.0 Command: /Library/Frameworks/R.framework/Resources/bin/R CMD build --keep-empty-dirs --no-resave-data Rbowtie StartedAt: 2025-02-09 18:05:39 -0500 (Sun, 09 Feb 2025) EndedAt: 2025-02-09 18:07:13 -0500 (Sun, 09 Feb 2025) EllapsedTime: 94.0 seconds RetCode: 0 Status: OK PackageFile: Rbowtie_1.47.0.tar.gz PackageFileSize: 4.998 MiB