Package: Rbowtie Version: 1.47.0 Command: /home/biocbuild/bbs-3.21-bioc/R/bin/R CMD INSTALL Rbowtie StartedAt: 2025-02-04 15:03:57 -0500 (Tue, 04 Feb 2025) EndedAt: 2025-02-04 15:05:52 -0500 (Tue, 04 Feb 2025) EllapsedTime: 114.9 seconds RetCode: 0 Status: OK