Package: Rbowtie Version: 1.47.0 Command: rm -rf Rbowtie.buildbin-libdir && mkdir Rbowtie.buildbin-libdir && E:\biocbuild\bbs-3.21-bioc\R\bin\R.exe CMD INSTALL --build --library=Rbowtie.buildbin-libdir Rbowtie_1.47.0.tar.gz StartedAt: 2025-02-05 08:40:46 -0500 (Wed, 05 Feb 2025) EndedAt: 2025-02-05 08:42:40 -0500 (Wed, 05 Feb 2025) EllapsedTime: 114.7 seconds RetCode: 0 Status: OK PackageFile: Rbowtie_1.47.0.zip PackageFileSize: 6.634 MiB