Package: Rbowtie Version: 1.47.0 Command: chmod a+r Rbowtie -R && E:\biocbuild\bbs-3.21-bioc\R\bin\R.exe CMD build --keep-empty-dirs --no-resave-data Rbowtie StartedAt: 2025-02-04 21:05:32 -0500 (Tue, 04 Feb 2025) EndedAt: 2025-02-04 21:08:04 -0500 (Tue, 04 Feb 2025) EllapsedTime: 152.3 seconds RetCode: 0 Status: OK PackageFile: Rbowtie_1.47.0.tar.gz PackageFileSize: 903.6 KiB