Package: Rbowtie Version: 1.47.0 Command: E:\biocbuild\bbs-3.21-bioc\R\bin\R.exe CMD check --no-multiarch --install=check:Rbowtie.install-out.txt --library=E:\biocbuild\bbs-3.21-bioc\R\library --no-vignettes --timings Rbowtie_1.47.0.tar.gz StartedAt: 2025-02-05 04:56:23 -0500 (Wed, 05 Feb 2025) EndedAt: 2025-02-05 04:57:16 -0500 (Wed, 05 Feb 2025) EllapsedTime: 53.1 seconds RetCode: 0 Status: OK CheckDir: Rbowtie.Rcheck Warnings: 0