Package: Rbowtie2 Version: 2.13.3 Command: /Library/Frameworks/R.framework/Resources/bin/R CMD INSTALL Rbowtie2 StartedAt: 2025-02-09 15:08:00 -0500 (Sun, 09 Feb 2025) EndedAt: 2025-02-09 15:09:06 -0500 (Sun, 09 Feb 2025) EllapsedTime: 65.9 seconds RetCode: 0 Status: OK