Package: Rbowtie2 Version: 2.13.3 Command: /home/biocbuild/R/R/bin/R CMD build --keep-empty-dirs --no-resave-data Rbowtie2 StartedAt: 2025-01-29 01:31:49 -0000 (Wed, 29 Jan 2025) EndedAt: 2025-01-29 01:40:31 -0000 (Wed, 29 Jan 2025) EllapsedTime: 522.3 seconds RetCode: 0 Status: OK PackageFile: Rbowtie2_2.13.3.tar.gz PackageFileSize: 1.736 MiB