Package: Rbowtie2 Version: 2.13.3 Command: /home/biocbuild/R/R/bin/R CMD INSTALL Rbowtie2 StartedAt: 2025-01-29 19:46:54 -0000 (Wed, 29 Jan 2025) EndedAt: 2025-01-29 19:56:07 -0000 (Wed, 29 Jan 2025) EllapsedTime: 552.5 seconds RetCode: 0 Status: OK