Package: Rbowtie2 Version: 2.13.3 Command: /Library/Frameworks/R.framework/Resources/bin/R CMD check --install=check:Rbowtie2.install-out.txt --library=/Library/Frameworks/R.framework/Resources/library --no-vignettes --timings Rbowtie2_2.13.3.tar.gz StartedAt: 2025-02-12 22:44:21 -0500 (Wed, 12 Feb 2025) EndedAt: 2025-02-12 22:45:03 -0500 (Wed, 12 Feb 2025) EllapsedTime: 42.4 seconds RetCode: 0 Status: OK CheckDir: Rbowtie2.Rcheck Warnings: 0