Package: Rbowtie2 Version: 2.13.3 Command: /home/biocbuild/bbs-3.21-bioc/R/bin/R CMD build --keep-empty-dirs --no-resave-data Rbowtie2 StartedAt: 2025-02-09 18:50:18 -0500 (Sun, 09 Feb 2025) EndedAt: 2025-02-09 18:55:23 -0500 (Sun, 09 Feb 2025) EllapsedTime: 305.4 seconds RetCode: 0 Status: OK PackageFile: Rbowtie2_2.13.3.tar.gz PackageFileSize: 1.711 MiB