Package: Rbowtie2 Version: 2.13.3 Command: /home/biocbuild/bbs-3.21-bioc/R/bin/R CMD INSTALL Rbowtie2 StartedAt: 2025-02-09 15:16:12 -0500 (Sun, 09 Feb 2025) EndedAt: 2025-02-09 15:21:14 -0500 (Sun, 09 Feb 2025) EllapsedTime: 302.1 seconds RetCode: 0 Status: OK