Package: Rbowtie2 Version: 2.13.3 Command: rm -rf Rbowtie2.buildbin-libdir && mkdir Rbowtie2.buildbin-libdir && E:\biocbuild\bbs-3.21-bioc\R\bin\R.exe CMD INSTALL --build --library=Rbowtie2.buildbin-libdir Rbowtie2_2.13.3.tar.gz StartedAt: 2025-02-10 08:29:25 -0500 (Mon, 10 Feb 2025) EndedAt: 2025-02-10 08:34:38 -0500 (Mon, 10 Feb 2025) EllapsedTime: 312.8 seconds RetCode: 0 Status: OK PackageFile: Rbowtie2_2.13.3.zip PackageFileSize: 18.42 MiB