Package: Rbowtie2 Version: 2.13.3 Command: chmod a+r Rbowtie2 -R && E:\biocbuild\bbs-3.21-bioc\R\bin\R.exe CMD build --keep-empty-dirs --no-resave-data Rbowtie2 StartedAt: 2025-02-09 21:02:55 -0500 (Sun, 09 Feb 2025) EndedAt: 2025-02-09 21:12:56 -0500 (Sun, 09 Feb 2025) EllapsedTime: 600.7 seconds RetCode: 0 Status: OK PackageFile: Rbowtie2_2.13.3.tar.gz PackageFileSize: 1.71 MiB