Package: Rbowtie2 Version: 2.13.3 Command: E:\biocbuild\bbs-3.21-bioc\R\bin\R.exe CMD check --no-multiarch --install=check:Rbowtie2.install-out.txt --library=E:\biocbuild\bbs-3.21-bioc\R\library --no-vignettes --timings Rbowtie2_2.13.3.tar.gz StartedAt: 2025-02-10 04:31:24 -0500 (Mon, 10 Feb 2025) EndedAt: 2025-02-10 04:32:37 -0500 (Mon, 10 Feb 2025) EllapsedTime: 73.0 seconds RetCode: 0 Status: OK CheckDir: Rbowtie2.Rcheck Warnings: 0