Package: Rbowtie2 Version: 2.13.3 Command: E:\biocbuild\bbs-3.21-bioc\R\bin\R.exe CMD INSTALL Rbowtie2 StartedAt: 2025-02-09 15:42:48 -0500 (Sun, 09 Feb 2025) EndedAt: 2025-02-09 15:48:00 -0500 (Sun, 09 Feb 2025) EllapsedTime: 311.7 seconds RetCode: 0 Status: OK