Package: Rbwa Version: 1.11.0 Command: /Library/Frameworks/R.framework/Resources/bin/R CMD INSTALL Rbwa StartedAt: 2025-02-09 15:01:31 -0500 (Sun, 09 Feb 2025) EndedAt: 2025-02-09 15:01:38 -0500 (Sun, 09 Feb 2025) EllapsedTime: 6.6 seconds RetCode: 0 Status: OK