Package: RcisTarget Version: 1.27.0 Command: /Library/Frameworks/R.framework/Resources/bin/R CMD build --keep-empty-dirs --no-resave-data RcisTarget StartedAt: 2025-02-09 17:21:17 -0500 (Sun, 09 Feb 2025) EndedAt: 2025-02-09 17:21:55 -0500 (Sun, 09 Feb 2025) EllapsedTime: 37.4 seconds RetCode: 0 Status: OK PackageFile: RcisTarget_1.27.0.tar.gz PackageFileSize: 12.84 MiB