Package: RcisTarget Version: 1.27.0 Command: /Library/Frameworks/R.framework/Resources/bin/R CMD INSTALL RcisTarget StartedAt: 2025-02-09 15:20:12 -0500 (Sun, 09 Feb 2025) EndedAt: 2025-02-09 15:20:28 -0500 (Sun, 09 Feb 2025) EllapsedTime: 15.5 seconds RetCode: 0 Status: OK