Package: RcisTarget Version: 1.27.0 Command: /Library/Frameworks/R.framework/Resources/bin/R CMD INSTALL RcisTarget StartedAt: 2025-02-09 15:32:43 -0500 (Sun, 09 Feb 2025) EndedAt: 2025-02-09 15:33:36 -0500 (Sun, 09 Feb 2025) EllapsedTime: 53.5 seconds RetCode: 0 Status: OK