Package: RcisTarget Version: 1.27.0 Command: /home/biocbuild/bbs-3.21-bioc/R/bin/R CMD build --keep-empty-dirs --no-resave-data RcisTarget StartedAt: 2025-02-04 18:48:26 -0500 (Tue, 04 Feb 2025) EndedAt: 2025-02-04 18:49:48 -0500 (Tue, 04 Feb 2025) EllapsedTime: 82.1 seconds RetCode: 0 Status: OK PackageFile: RcisTarget_1.27.0.tar.gz PackageFileSize: 12.8 MiB