Package: RcisTarget Version: 1.27.0 Command: /home/biocbuild/bbs-3.21-bioc/R/bin/R CMD check --install=check:RcisTarget.install-out.txt --library=/home/biocbuild/bbs-3.21-bioc/R/site-library --timings RcisTarget_1.27.0.tar.gz StartedAt: 2025-02-05 01:51:29 -0500 (Wed, 05 Feb 2025) EndedAt: 2025-02-05 01:58:31 -0500 (Wed, 05 Feb 2025) EllapsedTime: 421.8 seconds RetCode: 0 Status: OK CheckDir: RcisTarget.Rcheck Warnings: 0