Package: RcisTarget Version: 1.27.0 Command: /home/biocbuild/bbs-3.21-bioc/R/bin/R CMD INSTALL RcisTarget StartedAt: 2025-02-09 15:32:07 -0500 (Sun, 09 Feb 2025) EndedAt: 2025-02-09 15:32:48 -0500 (Sun, 09 Feb 2025) EllapsedTime: 40.8 seconds RetCode: 0 Status: OK