Package: RcisTarget Version: 1.27.0 Command: rm -rf RcisTarget.buildbin-libdir && mkdir RcisTarget.buildbin-libdir && E:\biocbuild\bbs-3.21-bioc\R\bin\R.exe CMD INSTALL --build --library=RcisTarget.buildbin-libdir RcisTarget_1.27.0.tar.gz StartedAt: 2025-02-10 08:29:39 -0500 (Mon, 10 Feb 2025) EndedAt: 2025-02-10 08:30:56 -0500 (Mon, 10 Feb 2025) EllapsedTime: 77.3 seconds RetCode: 0 Status: OK PackageFile: RcisTarget_1.27.0.zip PackageFileSize: 12.83 MiB