Package: RcisTarget Version: 1.27.0 Command: chmod a+r RcisTarget -R && E:\biocbuild\bbs-3.21-bioc\R\bin\R.exe CMD build --keep-empty-dirs --no-resave-data RcisTarget StartedAt: 2025-02-09 21:03:26 -0500 (Sun, 09 Feb 2025) EndedAt: 2025-02-09 21:05:38 -0500 (Sun, 09 Feb 2025) EllapsedTime: 131.5 seconds RetCode: 0 Status: OK PackageFile: RcisTarget_1.27.0.tar.gz PackageFileSize: 12.65 MiB