Package: RcisTarget Version: 1.27.0 Command: E:\biocbuild\bbs-3.21-bioc\R\bin\R.exe CMD check --no-multiarch --install=check:RcisTarget.install-out.txt --library=E:\biocbuild\bbs-3.21-bioc\R\library --no-vignettes --timings RcisTarget_1.27.0.tar.gz StartedAt: 2025-02-10 04:32:08 -0500 (Mon, 10 Feb 2025) EndedAt: 2025-02-10 04:39:27 -0500 (Mon, 10 Feb 2025) EllapsedTime: 438.5 seconds RetCode: 0 Status: OK CheckDir: RcisTarget.Rcheck Warnings: 0