Package: Rdisop Version: 1.67.5 Command: /home/biocbuild/R/R/bin/R CMD INSTALL Rdisop StartedAt: 2025-01-29 19:31:04 -0000 (Wed, 29 Jan 2025) EndedAt: 2025-01-29 19:32:14 -0000 (Wed, 29 Jan 2025) EllapsedTime: 70.2 seconds RetCode: 0 Status: OK