Package: Rdisop Version: 1.67.5 Command: rm -rf Rdisop.buildbin-libdir && mkdir Rdisop.buildbin-libdir && /Users/biocbuild/BBS/utils/build-universal.sh Rdisop_1.67.5.tar.gz /Library/Frameworks/R.framework/Resources/bin/R Rdisop.buildbin-libdir StartedAt: 2025-02-13 00:53:17 -0500 (Thu, 13 Feb 2025) EndedAt: 2025-02-13 00:54:04 -0500 (Thu, 13 Feb 2025) EllapsedTime: 47.3 seconds RetCode: 0 Status: OK PackageFile: Rdisop_1.67.5.tgz PackageFileSize: 244.5 KiB