Package: Rdisop Version: 1.67.5 Command: /Library/Frameworks/R.framework/Resources/bin/R CMD build --keep-empty-dirs --no-resave-data Rdisop StartedAt: 2025-02-09 18:06:53 -0500 (Sun, 09 Feb 2025) EndedAt: 2025-02-09 18:07:34 -0500 (Sun, 09 Feb 2025) EllapsedTime: 41.2 seconds RetCode: 0 Status: OK PackageFile: Rdisop_1.67.5.tar.gz PackageFileSize: 714.6 KiB