Package: Rdisop Version: 1.67.5 Command: /Library/Frameworks/R.framework/Resources/bin/R CMD INSTALL Rdisop StartedAt: 2025-02-12 15:04:32 -0500 (Wed, 12 Feb 2025) EndedAt: 2025-02-12 15:05:11 -0500 (Wed, 12 Feb 2025) EllapsedTime: 39.3 seconds RetCode: 0 Status: OK