Package: Rdisop Version: 1.67.5 Command: /home/biocbuild/bbs-3.21-bioc/R/bin/R CMD check --install=check:Rdisop.install-out.txt --library=/home/biocbuild/bbs-3.21-bioc/R/site-library --timings Rdisop_1.67.5.tar.gz StartedAt: 2025-02-10 01:45:19 -0500 (Mon, 10 Feb 2025) EndedAt: 2025-02-10 01:45:43 -0500 (Mon, 10 Feb 2025) EllapsedTime: 24.0 seconds RetCode: 0 Status: WARNINGS CheckDir: Rdisop.Rcheck Warnings: 1