Package: Rdisop Version: 1.67.5 Command: /home/biocbuild/bbs-3.21-bioc/R/bin/R CMD INSTALL Rdisop StartedAt: 2025-02-09 15:03:10 -0500 (Sun, 09 Feb 2025) EndedAt: 2025-02-09 15:03:53 -0500 (Sun, 09 Feb 2025) EllapsedTime: 42.9 seconds RetCode: 0 Status: OK