Package: Rdisop Version: 1.67.5 Command: rm -rf Rdisop.buildbin-libdir && mkdir Rdisop.buildbin-libdir && E:\biocbuild\bbs-3.21-bioc\R\bin\R.exe CMD INSTALL --build --library=Rdisop.buildbin-libdir Rdisop_1.67.5.tar.gz StartedAt: 2025-02-10 08:29:56 -0500 (Mon, 10 Feb 2025) EndedAt: 2025-02-10 08:31:17 -0500 (Mon, 10 Feb 2025) EllapsedTime: 80.9 seconds RetCode: 0 Status: OK PackageFile: Rdisop_1.67.5.zip PackageFileSize: 567.9 KiB