Package: Rdisop Version: 1.67.5 Command: chmod a+r Rdisop -R && E:\biocbuild\bbs-3.21-bioc\R\bin\R.exe CMD build --keep-empty-dirs --no-resave-data Rdisop StartedAt: 2025-02-09 21:04:39 -0500 (Sun, 09 Feb 2025) EndedAt: 2025-02-09 21:06:29 -0500 (Sun, 09 Feb 2025) EllapsedTime: 110.5 seconds RetCode: 0 Status: OK PackageFile: Rdisop_1.67.5.tar.gz PackageFileSize: 703.8 KiB