Package: Rdisop Version: 1.67.5 Command: E:\biocbuild\bbs-3.21-bioc\R\bin\R.exe CMD check --no-multiarch --install=check:Rdisop.install-out.txt --library=E:\biocbuild\bbs-3.21-bioc\R\library --no-vignettes --timings Rdisop_1.67.5.tar.gz StartedAt: 2025-02-10 04:32:44 -0500 (Mon, 10 Feb 2025) EndedAt: 2025-02-10 04:33:37 -0500 (Mon, 10 Feb 2025) EllapsedTime: 53.6 seconds RetCode: 0 Status: OK CheckDir: Rdisop.Rcheck Warnings: 0