Package: ReUseData Version: 1.7.0 Command: /Library/Frameworks/R.framework/Resources/bin/R CMD check --install=check:ReUseData.install-out.txt --library=/Library/Frameworks/R.framework/Resources/library --no-vignettes --timings ReUseData_1.7.0.tar.gz StartedAt: 2025-02-12 22:48:20 -0500 (Wed, 12 Feb 2025) EndedAt: 2025-02-12 22:50:48 -0500 (Wed, 12 Feb 2025) EllapsedTime: 148.2 seconds RetCode: 0 Status: OK CheckDir: ReUseData.Rcheck Warnings: 0