Package: ReactomeContentService4R Version: 1.15.1 Command: rm -rf ReactomeContentService4R.buildbin-libdir && mkdir ReactomeContentService4R.buildbin-libdir && /Users/biocbuild/BBS/utils/build-universal.sh ReactomeContentService4R_1.15.1.tar.gz /Library/Frameworks/R.framework/Resources/bin/R ReactomeContentService4R.buildbin-libdir StartedAt: 2025-02-09 22:26:56 -0500 (Sun, 09 Feb 2025) EndedAt: 2025-02-09 22:26:58 -0500 (Sun, 09 Feb 2025) EllapsedTime: 2.1 seconds RetCode: 0 Status: OK PackageFile: ReactomeContentService4R_1.15.1.tgz PackageFileSize: 1.158 MiB