Package: ReactomeContentService4R Version: 1.15.1 Command: /Library/Frameworks/R.framework/Resources/bin/R CMD check --install=check:ReactomeContentService4R.install-out.txt --library=/Library/Frameworks/R.framework/Resources/library --no-vignettes --timings ReactomeContentService4R_1.15.1.tar.gz StartedAt: 2025-02-09 20:53:26 -0500 (Sun, 09 Feb 2025) EndedAt: 2025-02-09 20:53:39 -0500 (Sun, 09 Feb 2025) EllapsedTime: 13.3 seconds RetCode: 1 Status: ERROR CheckDir: ReactomeContentService4R.Rcheck Warnings: NA