Package: ReactomeContentService4R Version: 1.15.1 Command: /Library/Frameworks/R.framework/Resources/bin/R CMD build --keep-empty-dirs --no-resave-data ReactomeContentService4R StartedAt: 2025-02-09 18:07:00 -0500 (Sun, 09 Feb 2025) EndedAt: 2025-02-09 18:07:39 -0500 (Sun, 09 Feb 2025) EllapsedTime: 38.8 seconds RetCode: 0 Status: OK PackageFile: ReactomeContentService4R_1.15.1.tar.gz PackageFileSize: 2.281 MiB