Package: ReactomeContentService4R Version: 1.15.1 Command: /home/biocbuild/bbs-3.21-bioc/R/bin/R CMD check --install=check:ReactomeContentService4R.install-out.txt --library=/home/biocbuild/bbs-3.21-bioc/R/site-library --timings ReactomeContentService4R_1.15.1.tar.gz StartedAt: 2025-02-10 01:45:43 -0500 (Mon, 10 Feb 2025) EndedAt: 2025-02-10 01:46:36 -0500 (Mon, 10 Feb 2025) EllapsedTime: 53.2 seconds RetCode: 1 Status: ERROR CheckDir: ReactomeContentService4R.Rcheck Warnings: NA