Package: ReactomeContentService4R Version: 1.15.1 Command: rm -rf ReactomeContentService4R.buildbin-libdir && mkdir ReactomeContentService4R.buildbin-libdir && E:\biocbuild\bbs-3.21-bioc\R\bin\R.exe CMD INSTALL --build --library=ReactomeContentService4R.buildbin-libdir ReactomeContentService4R_1.15.1.tar.gz StartedAt: 2025-02-10 08:30:28 -0500 (Mon, 10 Feb 2025) EndedAt: 2025-02-10 08:34:10 -0500 (Mon, 10 Feb 2025) EllapsedTime: 222.4 seconds RetCode: 0 Status: OK PackageFile: ReactomeContentService4R_1.15.1.zip PackageFileSize: 1.161 MiB