Package: ReactomeGSA Version: 1.21.2 Command: /Library/Frameworks/R.framework/Resources/bin/R CMD build --keep-empty-dirs --no-resave-data ReactomeGSA StartedAt: 2025-02-09 17:21:57 -0500 (Sun, 09 Feb 2025) EndedAt: 2025-02-09 17:25:27 -0500 (Sun, 09 Feb 2025) EllapsedTime: 210.3 seconds RetCode: 0 Status: OK PackageFile: ReactomeGSA_1.21.2.tar.gz PackageFileSize: 403 KiB