Package: ReactomeGSA Version: 1.21.2 Command: /home/biocbuild/bbs-3.21-bioc/R/bin/R CMD build --keep-empty-dirs --no-resave-data ReactomeGSA StartedAt: 2025-02-09 18:52:03 -0500 (Sun, 09 Feb 2025) EndedAt: 2025-02-09 18:56:30 -0500 (Sun, 09 Feb 2025) EllapsedTime: 267.4 seconds RetCode: 0 Status: OK PackageFile: ReactomeGSA_1.21.2.tar.gz PackageFileSize: 377.3 KiB