Package: ReactomeGSA Version: 1.21.2 Command: /home/biocbuild/bbs-3.21-bioc/R/bin/R CMD INSTALL ReactomeGSA StartedAt: 2025-02-09 15:51:36 -0500 (Sun, 09 Feb 2025) EndedAt: 2025-02-09 15:51:44 -0500 (Sun, 09 Feb 2025) EllapsedTime: 8.0 seconds RetCode: 0 Status: OK