Package: ReactomeGraph4R Version: 1.15.0 Command: rm -rf ReactomeGraph4R.buildbin-libdir && mkdir ReactomeGraph4R.buildbin-libdir && /Users/biocbuild/BBS/utils/build-universal.sh ReactomeGraph4R_1.15.0.tar.gz /Library/Frameworks/R.framework/Resources/bin/R ReactomeGraph4R.buildbin-libdir StartedAt: 2025-02-09 22:26:56 -0500 (Sun, 09 Feb 2025) EndedAt: 2025-02-09 22:26:59 -0500 (Sun, 09 Feb 2025) EllapsedTime: 3.1 seconds RetCode: 0 Status: OK PackageFile: ReactomeGraph4R_1.15.0.tgz PackageFileSize: 876.5 KiB